BEGIN:VCALENDAR
VERSION:2.0
PRODID:-//advancements.scouting.org///NONSGML v1.0//EN
CALSCALE:GREGORIAN
X-WR-CALNAME:Pack 0475 (Boys) Wolves 6
BEGIN:VEVENT
UID:6381554@advancements.scouting.org
DTSTAMP:20260423T132500Z
CREATED:20250501T143611Z
ORGANIZER:Steve Grant
DTSTART:20250507T220000Z
DTEND:20250507T230000Z
SUMMARY:Advancement Make-up
DESCRIPTION:Advancement Make-up\n
URL:https://advancements.scouting.org/calendar/event/6381554
LOCATION:Lansbrook Commons Park
END:VEVENT
END:VCALENDAR