BEGIN:VCALENDAR
VERSION:2.0
PRODID:-//advancements.scouting.org///NONSGML v1.0//EN
CALSCALE:GREGORIAN
X-WR-CALNAME:Pack 0475 (Boys)
BEGIN:VEVENT
UID:5804167@advancements.scouting.org
DTSTAMP:20260423T120403Z
CREATED:20240520T231706Z
ORGANIZER:David Grotenberg
DTSTART:20250426T213000Z
DTEND:20250427T130000Z
SUMMARY:Busch Gardens
DESCRIPTION:Please join Pack 475 at the Busch Gardens for a truly special campout.\nFinal Payment due 3 weeks before.\nExperience wildlife at Busch Gardens.\n
URL:https://advancements.scouting.org/calendar/event/5804167
LOCATION:Busch Gardens
END:VEVENT
BEGIN:VEVENT
UID:5804171@advancements.scouting.org
DTSTAMP:20260423T120403Z
CREATED:20240520T232022Z
ORGANIZER:Bridget Hurt
DTSTART:20250506T220000Z
DTEND:20250507T000000Z
SUMMARY:Pack 475 May Committee Meeting
DESCRIPTION:Pack 475 May Committee Meeting at LCR.\n
URL:https://advancements.scouting.org/calendar/event/5804171
LOCATION:Lutheran Church of the Resurection
END:VEVENT
BEGIN:VEVENT
UID:5804175@advancements.scouting.org
DTSTAMP:20260423T120403Z
CREATED:20240520T232241Z
ORGANIZER:Ashley Geiger
DTSTART:20250504T160000Z
DTEND:20250504T190000Z
SUMMARY:Pack 475 Annual Planning Meeting
DESCRIPTION:The Annual Planning Meeting is the opportunity for leaders and parents to come and discuss the upcoming events for the 2025-2026 Pack 475 Calendar year. Parents are encouraged to attend. It will be held at Cubmaster Zacks house: pool\, bounce house\, ping pong\, basketball\, food &amp; drinks! (The address will be  sent via email.)\n
URL:https://advancements.scouting.org/calendar/event/5804175
LOCATION:Cubmaster Zack Zurowestes House
END:VEVENT
BEGIN:VEVENT
UID:5804178@advancements.scouting.org
DTSTAMP:20260423T120403Z
CREATED:20240520T232434Z
ORGANIZER:Bridget Hurt
DTSTART:20250518T180000Z
DTEND:20250518T200000Z
SUMMARY:Pack 475 Wipeout
DESCRIPTION:Pack 475 Wipeout is the official graduation for the young men as they advance to the next rank in the pack. A cookout and a water slide will be provided. So please come out and enjoy this wonderful event!&nbsp;\n
URL:https://advancements.scouting.org/calendar/event/5804178
LOCATION:Lutheran Church of the Resurection
END:VEVENT
BEGIN:VEVENT
UID:6409606@advancements.scouting.org
DTSTAMP:20260423T120403Z
CREATED:20250528T160252Z
ORGANIZER:Ashley Geiger
DTSTART:20250907T180000Z
DTEND:20250907T200000Z
SUMMARY:Welcome Back Pack 475
DESCRIPTION:Welcome back pack meeting for new and returning Cub Scouts! We will go over Cub Scout rules and values\, and give information to parents while the kids go play outside.&nbsp;\n
URL:https://advancements.scouting.org/calendar/event/6409606
LOCATION:Lutheran Church of the Resurrection 
END:VEVENT
BEGIN:VEVENT
UID:6409810@advancements.scouting.org
DTSTAMP:20260423T120403Z
CREATED:20250528T202347Z
ORGANIZER:Ashley Geiger
DTSTART:20251005T140000Z
DTEND:20251005T160000Z
SUMMARY:Fishing Derby
DESCRIPTION:Annual fishing derby and pack meeting: Parents\, please remember to get your fishing license prior to the fishing derby.\n
URL:https://advancements.scouting.org/calendar/event/6409810
LOCATION:Fred Howard Park
END:VEVENT
BEGIN:VEVENT
UID:6409818@advancements.scouting.org
DTSTAMP:20260423T120403Z
CREATED:20250528T203249Z
ORGANIZER:Ashley Geiger
DTSTART:20251018T200000Z
DTEND:20251019T130000Z
SUMMARY:Kennedy Space Center
DESCRIPTION:Overnight at Kennedy Space Center: we have a private group sleepover for Pack 475 in the Gateway building. Dinner\, snack\, and breakfast the following morning will be provided. Next day ticket on 10/19/25 is also included. Must bring own bedding (air mattress\, bed roll\, etc.)  More details to come as we get closer to the event date.&nbsp;\n*Deadline to sign up: September 12\, 2025.\n
URL:https://advancements.scouting.org/calendar/event/6409818
LOCATION:Merritt Island\, Florida 
END:VEVENT
BEGIN:VEVENT
UID:6409845@advancements.scouting.org
DTSTAMP:20260423T120403Z
CREATED:20250528T205739Z
ORGANIZER:Ashley Geiger
DTSTART:20251107T210000Z
DTEND:20251109T150000Z
SUMMARY:JB Starke Campout & Pack Meeting
DESCRIPTION:Campout at JB Starkey and Pack meeting on Saturday\, November 8th at 2pm at the campground. We will have group campsite B and campsite 7.\n
URL:https://advancements.scouting.org/calendar/event/6409845
LOCATION:JB Starkey Wilderness Park
END:VEVENT
BEGIN:VEVENT
UID:6410681@advancements.scouting.org
DTSTAMP:20260423T120403Z
CREATED:20250529T155354Z
ORGANIZER:Ashley Geiger
DTSTART:20251205T210000Z
DTEND:20251207T150000Z
SUMMARY:Fort De Soto 
DESCRIPTION:Weekend camp out at Fort De Soto: The December pack meeting will be held at the campground on Saturday\, December 6th at 2:00pm. Any scouts not camping can come for the day to attend the pack meeting.&nbsp;\n
URL:https://advancements.scouting.org/calendar/event/6410681
LOCATION:Fort De Soto
END:VEVENT
BEGIN:VEVENT
UID:6410691@advancements.scouting.org
DTSTAMP:20260423T120403Z
CREATED:20250529T161327Z
ORGANIZER:Ashley Geiger
DTSTART:20251219T230000Z
DTEND:20251220T010000Z
SUMMARY:Scouts @ Church / PWD Build
DESCRIPTION:Scouts at church and Pinewood Derby preparation/building&nbsp;\n
URL:https://advancements.scouting.org/calendar/event/6410691
LOCATION:None
END:VEVENT
BEGIN:VEVENT
UID:6442767@advancements.scouting.org
DTSTAMP:20260423T120403Z
CREATED:20250625T141343Z
ORGANIZER:Ashley Geiger
DTSTART:20250720T160000Z
DTEND:20250720T180000Z
SUMMARY:Pack 475 - TBSA Meet Up
DESCRIPTION:Pack 475 is going to have a meet up at Tampa Bay Skating Academy in Oldsmar on July 20th during public skate hours: 12:00 - 2:00pm. All parents and siblings are welcome! The group rate is $18 per adult/child\, including skate rental. Everyone can pay at TBSA individually upon arrival. Wear your class Bs!\n\n\n
URL:https://advancements.scouting.org/calendar/event/6442767
LOCATION:255 Forest Lakes Blvd Oldsmar\, FL 34677
END:VEVENT
END:VCALENDAR