BEGIN:VCALENDAR
VERSION:2.0
PRODID:-//advancements.scouting.org///NONSGML v1.0//EN
CALSCALE:GREGORIAN
X-WR-CALNAME:Pack 0127 (Family)
BEGIN:VEVENT
UID:5926610@advancements.scouting.org
DTSTAMP:20260424T133516Z
CREATED:20240807T004500Z
ORGANIZER:Andrew Hardy
DTSTART:20250516T003000Z
DTEND:20250516T020000Z
SUMMARY:Pack 127 Pack Meeting
DESCRIPTION:Monthly pack meeting.  All scouts\, parents\, and siblings are invited.\n
URL:https://advancements.scouting.org/calendar/event/5926610
LOCATION:19993 E Long Ave\, Centennial\, CO 80016
END:VEVENT
BEGIN:VEVENT
UID:5975194@advancements.scouting.org
DTSTAMP:20260424T133516Z
CREATED:20240821T025935Z
ORGANIZER:Andrew Hardy
DTSTART:20250430T020000Z
DTEND:20250430T030000Z
SUMMARY:Pack 127 Committee Meeting
DESCRIPTION:Online only meeting\n
URL:https://advancements.scouting.org/calendar/event/5975194
LOCATION:None
END:VEVENT
BEGIN:VEVENT
UID:6225951@advancements.scouting.org
DTSTAMP:20260424T133516Z
CREATED:20250103T035032Z
ORGANIZER:Andrew Hardy
DTSTART:20250607T190000Z
DTEND:20250608T170000Z
SUMMARY:Pack 127 2025 CAMP OUT!!
DESCRIPTION:Pisgah Point West\, Pisgah Point Group Loop\n
URL:https://advancements.scouting.org/calendar/event/6225951
LOCATION:Mueller State Park
END:VEVENT
BEGIN:VEVENT
UID:6266955@advancements.scouting.org
DTSTAMP:20260424T133516Z
CREATED:20250122T062634Z
ORGANIZER:Andrew Hardy
DTSTART:20250524T010000Z
DTEND:20250524T150000Z
SUMMARY:Overnight Adventure
DESCRIPTION:http://w.aquariumrestaurants.com/downtownaquariumdenver/calendar.asp%235&amp;g4=3Dyes\n
URL:https://advancements.scouting.org/calendar/event/6266955
LOCATION:700 Water St. Denver\, CO 80211
END:VEVENT
BEGIN:VEVENT
UID:6506381@advancements.scouting.org
DTSTAMP:20260424T133516Z
CREATED:20250804T030112Z
ORGANIZER:Andrew Hardy
DTSTART:20250807T220000Z
DTEND:20250808T000000Z
SUMMARY:Back to School Night
DESCRIPTION:Come see us at our booth with flyers and info about joining Pack 127\n
URL:https://advancements.scouting.org/calendar/event/6506381
LOCATION:19993 E Long Ave\, Centennial\, CO 80016
END:VEVENT
BEGIN:VEVENT
UID:6506386@advancements.scouting.org
DTSTAMP:20260424T133516Z
CREATED:20250804T030320Z
ORGANIZER:Andrew Hardy
DTSTART:20250815T220000Z
DTEND:20250816T000000Z
SUMMARY:Creekside Carnival
DESCRIPTION:Come by our booth w/ popcorn and water\n
URL:https://advancements.scouting.org/calendar/event/6506386
LOCATION:None
END:VEVENT
BEGIN:VEVENT
UID:6506393@advancements.scouting.org
DTSTAMP:20260424T133516Z
CREATED:20250804T030540Z
ORGANIZER:Andrew Hardy
DTSTART:20250822T003000Z
DTEND:20250822T020000Z
SUMMARY:August Pack Meeting
DESCRIPTION:As we welcome new scouts to our pack we will introduce them to the Scout Law\, Oath\, Motto\, and more.\n
URL:https://advancements.scouting.org/calendar/event/6506393
LOCATION:None
END:VEVENT
BEGIN:VEVENT
UID:6506416@advancements.scouting.org
DTSTAMP:20260424T133516Z
CREATED:20250804T031016Z
ORGANIZER:Andrew Hardy
DTSTART:20250913T170000Z
DTEND:20250913T200000Z
SUMMARY:Rocket Day
DESCRIPTION:Bring your own chairs\, sunscreen\, blankets\, sign up to bring a side dish below\, and enjoy hotdogs/hamburgers/drinks for $1 each.\nMake sure to pick up a rocket kit at Pack meeting.\n
URL:https://advancements.scouting.org/calendar/event/6506416
LOCATION:  Bally's Arapahoe Park Horse Track\, 26000 E Quincy Ave
END:VEVENT
BEGIN:VEVENT
UID:6539527@advancements.scouting.org
DTSTAMP:20260424T133516Z
CREATED:20250814T014657Z
ORGANIZER:Andrew Hardy
DTSTART:20250823T160000Z
DTEND:20250824T020000Z
SUMMARY:Scout Day in the Park
DESCRIPTION:Location: Johnson Habitat Park -  610 S Jason St\, Denver\, CO 80223\nSign up link: https://www.signupgenius.com/go/30E0B4FADA72BA2FD0-57763316-dayinthe#/&nbsp;\nYoure invited to come and enjoy time with the older scouts\, work on achievements toward your rank.\n
URL:https://advancements.scouting.org/calendar/event/6539527
LOCATION:None
END:VEVENT
BEGIN:VEVENT
UID:6539532@advancements.scouting.org
DTSTAMP:20260424T133516Z
CREATED:20250814T015004Z
ORGANIZER:Andrew Hardy
DTSTART:20250914T013000Z
DTEND:20250914T040000Z
SUMMARY:Scout Night at the Rapids
DESCRIPTION:Location: DICK'S Sporting Goods Park\nCome watch the Colorado Rapids take on the Houston Dynamo on September 13th at 7:30pm! A pre-game experience has been reserved where you can watch the Rapids warm up from field level.\nSign up link: https://rapids.spinzo.com/colorado-rapids-vs-houston-dynamo-2025-09-13-ZRKNY?group=scouting-colorado-yebx&nbsp;\n
URL:https://advancements.scouting.org/calendar/event/6539532
LOCATION:None
END:VEVENT
BEGIN:VEVENT
UID:6539535@advancements.scouting.org
DTSTAMP:20260424T133516Z
CREATED:20250814T015132Z
ORGANIZER:Andrew Hardy
DTSTART:20250819T020000Z
DTEND:20250819T030000Z
SUMMARY:Aug Pack Committee Meeting
DESCRIPTION:August pack committee meeting\n
URL:https://advancements.scouting.org/calendar/event/6539535
LOCATION:None
END:VEVENT
BEGIN:VEVENT
UID:6539546@advancements.scouting.org
DTSTAMP:20260424T133516Z
CREATED:20250814T015258Z
ORGANIZER:Andrew Hardy
DTSTART:20250903T020000Z
DTEND:20250903T030000Z
SUMMARY:Pack 127 Committee Meeting
DESCRIPTION:In person meeting\n
URL:https://advancements.scouting.org/calendar/event/6539546
LOCATION:22821 E Euclid Cir Aurora CO 80016
END:VEVENT
BEGIN:VEVENT
UID:6616172@advancements.scouting.org
DTSTAMP:20260424T133516Z
CREATED:20250905T011023Z
ORGANIZER:Andrew Hardy
DTSTART:20260109T013000Z
DTEND:20260109T030000Z
SUMMARY:Pack Meeting
DESCRIPTION:Monthly pack meeting\n
URL:https://advancements.scouting.org/calendar/event/6616172
LOCATION:19993 E Long Ave\, Centennial\, CO 80016
END:VEVENT
BEGIN:VEVENT
UID:6616173@advancements.scouting.org
DTSTAMP:20260424T133516Z
CREATED:20250905T011023Z
ORGANIZER:Andrew Hardy
DTSTART:20260213T013000Z
DTEND:20260213T030000Z
SUMMARY:Pack Meeting
DESCRIPTION:Monthly pack meeting\n
URL:https://advancements.scouting.org/calendar/event/6616173
LOCATION:19993 E Long Ave\, Centennial\, CO 80016
END:VEVENT
BEGIN:VEVENT
UID:6616174@advancements.scouting.org
DTSTAMP:20260424T133516Z
CREATED:20250905T011023Z
ORGANIZER:Andrew Hardy
DTSTART:20260313T003000Z
DTEND:20260313T020000Z
SUMMARY:Pack Meeting
DESCRIPTION:Monthly pack meeting\n
URL:https://advancements.scouting.org/calendar/event/6616174
LOCATION:19993 E Long Ave\, Centennial\, CO 80016
END:VEVENT
BEGIN:VEVENT
UID:6616175@advancements.scouting.org
DTSTAMP:20260424T133516Z
CREATED:20250905T011023Z
ORGANIZER:Andrew Hardy
DTSTART:20260417T003000Z
DTEND:20260417T020000Z
SUMMARY:Pack Meeting
DESCRIPTION:Monthly pack meeting\n
URL:https://advancements.scouting.org/calendar/event/6616175
LOCATION:19993 E Long Ave\, Centennial\, CO 80016
END:VEVENT
BEGIN:VEVENT
UID:6616176@advancements.scouting.org
DTSTAMP:20260424T133516Z
CREATED:20250905T011023Z
ORGANIZER:Andrew Hardy
DTSTART:20260515T003000Z
DTEND:20260515T020000Z
SUMMARY:Pack Meeting
DESCRIPTION:Monthly pack meeting\n
URL:https://advancements.scouting.org/calendar/event/6616176
LOCATION:19993 E Long Ave\, Centennial\, CO 80016
END:VEVENT
BEGIN:VEVENT
UID:6616177@advancements.scouting.org
DTSTAMP:20260424T133516Z
CREATED:20250905T011023Z
ORGANIZER:Andrew Hardy
DTSTART:20250912T003000Z
DTEND:20250912T020000Z
SUMMARY:Pack Meeting
DESCRIPTION:Monthly pack meeting\n
URL:https://advancements.scouting.org/calendar/event/6616177
LOCATION:19993 E Long Ave\, Centennial\, CO 80016
END:VEVENT
BEGIN:VEVENT
UID:6616178@advancements.scouting.org
DTSTAMP:20260424T133516Z
CREATED:20250905T011023Z
ORGANIZER:Andrew Hardy
DTSTART:20251010T003000Z
DTEND:20251010T020000Z
SUMMARY:Pack Meeting
DESCRIPTION:Monthly pack meeting\n
URL:https://advancements.scouting.org/calendar/event/6616178
LOCATION:19993 E Long Ave\, Centennial\, CO 80016
END:VEVENT
BEGIN:VEVENT
UID:6616179@advancements.scouting.org
DTSTAMP:20260424T133516Z
CREATED:20250905T011023Z
ORGANIZER:Andrew Hardy
DTSTART:20251114T013000Z
DTEND:20251114T030000Z
SUMMARY:Pack Meeting
DESCRIPTION:Monthly pack meeting\n
URL:https://advancements.scouting.org/calendar/event/6616179
LOCATION:19993 E Long Ave\, Centennial\, CO 80016
END:VEVENT
BEGIN:VEVENT
UID:6616180@advancements.scouting.org
DTSTAMP:20260424T133516Z
CREATED:20250905T011023Z
ORGANIZER:Andrew Hardy
DTSTART:20251205T013000Z
DTEND:20251205T030000Z
SUMMARY:Pack Meeting
DESCRIPTION:Monthly pack meeting\n
URL:https://advancements.scouting.org/calendar/event/6616180
LOCATION:19993 E Long Ave\, Centennial\, CO 80016
END:VEVENT
BEGIN:VEVENT
UID:6616223@advancements.scouting.org
DTSTAMP:20260424T133516Z
CREATED:20250905T012913Z
ORGANIZER:Andrew Hardy
DTSTART:20260107T023000Z
DTEND:20260107T033000Z
SUMMARY:Pack 127 Committee Meeting
DESCRIPTION:Online meeting\n
URL:https://advancements.scouting.org/calendar/event/6616223
LOCATION:Location was not specified
END:VEVENT
BEGIN:VEVENT
UID:6616224@advancements.scouting.org
DTSTAMP:20260424T133516Z
CREATED:20250905T012913Z
ORGANIZER:Andrew Hardy
DTSTART:20260206T023000Z
DTEND:20260206T033000Z
SUMMARY:Pack 127 Committee Meeting
DESCRIPTION:Online meeting\n
URL:https://advancements.scouting.org/calendar/event/6616224
LOCATION:Location was not specified
END:VEVENT
BEGIN:VEVENT
UID:6616225@advancements.scouting.org
DTSTAMP:20260424T133516Z
CREATED:20250905T012913Z
ORGANIZER:Andrew Hardy
DTSTART:20260304T023000Z
DTEND:20260304T033000Z
SUMMARY:Pack 127 Committee Meeting
DESCRIPTION:Online meeting\n
URL:https://advancements.scouting.org/calendar/event/6616225
LOCATION:Location was not specified
END:VEVENT
BEGIN:VEVENT
UID:6616227@advancements.scouting.org
DTSTAMP:20260424T133516Z
CREATED:20250905T012913Z
ORGANIZER:Andrew Hardy
DTSTART:20260508T013000Z
DTEND:20260508T023000Z
SUMMARY:Pack 127 Committee Meeting
DESCRIPTION:Online meeting\n
URL:https://advancements.scouting.org/calendar/event/6616227
LOCATION:Location was not specified
END:VEVENT
BEGIN:VEVENT
UID:6616229@advancements.scouting.org
DTSTAMP:20260424T133516Z
CREATED:20250905T012913Z
ORGANIZER:Andrew Hardy
DTSTART:20251003T013000Z
DTEND:20251003T023000Z
SUMMARY:Pack 127 Committee Meeting
DESCRIPTION:Online meeting\n
URL:https://advancements.scouting.org/calendar/event/6616229
LOCATION:Location was not specified
END:VEVENT
BEGIN:VEVENT
UID:6616230@advancements.scouting.org
DTSTAMP:20260424T133516Z
CREATED:20250905T012913Z
ORGANIZER:Andrew Hardy
DTSTART:20251107T023000Z
DTEND:20251107T033000Z
SUMMARY:Pack 127 Committee Meeting
DESCRIPTION:Online meeting\n
URL:https://advancements.scouting.org/calendar/event/6616230
LOCATION:Location was not specified
END:VEVENT
BEGIN:VEVENT
UID:6759789@advancements.scouting.org
DTSTAMP:20260424T133516Z
CREATED:20251128T144833Z
ORGANIZER:Andrew Hardy
DTSTART:20251207T013000Z
DTEND:20251207T023000Z
SUMMARY:Festival of Lights
DESCRIPTION:It's about a 30-minute drive\, but traffic should be light in that direction.  Scouts will meet in the parking area and tour the lights together\n
URL:https://advancements.scouting.org/calendar/event/6759789
LOCATION:575 N White Tail Dr Franktown CO 80116
END:VEVENT
BEGIN:VEVENT
UID:6798460@advancements.scouting.org
DTSTAMP:20260424T133516Z
CREATED:20260104T142706Z
ORGANIZER:Andrew Hardy
DTSTART:20260110T070000Z
DTEND:20260111T064500Z
SUMMARY:Scout day at the rodeo
DESCRIPTION:Includes SCOUTS RODEO EXPERIENCE (8:15-8:45am)| Learn about the sport of rodeo through this interactive and engaging experience. Youll get to go down on the arena floor of the Coliseum and learn first-hand from rodeo contestants\, queens\, and rodeo clown. Please purchase tickets to the Pro Rodeo Semi-Finals 1 at 11am. 
URL:https://advancements.scouting.org/calendar/event/6798460
LOCATION:4655 Humboldt Street\, Denver\, CO 80216
END:VEVENT
BEGIN:VEVENT
UID:6798464@advancements.scouting.org
DTSTAMP:20260424T133516Z
CREATED:20260104T142905Z
ORGANIZER:Andrew Hardy
DTSTART:20260228T200000Z
DTEND:20260228T230000Z
SUMMARY:Colorado Adventure Point
DESCRIPTION:Pack 127 is headed back to Colorado Adventure Point for an afternoon of archery\, rock wall climbing\, and STEM fun. Sign up early using the CheddarUp link to reserve your spot!  All scouts must be accompanied by an adult and the mandatory waiver will be emailed to the parents. 
URL:https://advancements.scouting.org/calendar/event/6798464
LOCATION:10455 W 6th Ave #150\, Lakewood\, CO 80215 
END:VEVENT
BEGIN:VEVENT
UID:6798466@advancements.scouting.org
DTSTAMP:20260424T133516Z
CREATED:20260104T143125Z
ORGANIZER:Andrew Hardy
DTSTART:20260327T230000Z
DTEND:20260328T033000Z
SUMMARY:Glowing Wild Scout Night: Spots + Stripes
DESCRIPTION:Join us for an exclusive educational experience\, while you enjoy early access to the new Denver Zoo Glowing Wild.  Your Scouts will become the newest recruits to the Zoos fictional Animal Academy\, where they will complete missions to earn their spots and stripes patch!   From 5:00-6:15 p.m.\, Scouts will engage in fun and learning in Animal Academy building through science-based challenges\, up-close animal ambassador encounters\, and a lantern-themed craft before gaining early access to Glowing Wild to explore on their own!
URL:https://advancements.scouting.org/calendar/event/6798466
LOCATION:2300 Steele St\, Denver\, CO 80205
END:VEVENT
BEGIN:VEVENT
UID:6798468@advancements.scouting.org
DTSTAMP:20260424T133516Z
CREATED:20260104T143322Z
ORGANIZER:Andrew Hardy
DTSTART:20260418T170000Z
DTEND:20260418T200000Z
SUMMARY:Pinewood Derby
DESCRIPTION:PWD kits are provided to all scouts by the pack.  Each scout family is responsible to design/build/paint/etc. their own car. Check outthe video for help on building a winning car.  Here is a link to more details about how we run our local PWD.If you need help building your car\, make sure to check out one of these workshops at Colorado Adventure Point.  Weigh-in will be at our April 9 Pack MeetingPinewood Derby is one of our scouts most enjoyed events of the year.  But it doesn't happen without a bunch of great volunteers.  Please sign up for a spot (or two) to help make this year's PWD a blast!!
URL:https://advancements.scouting.org/calendar/event/6798468
LOCATION:19993 E Long Ave\, Centennial\, CO 80016
END:VEVENT
BEGIN:VEVENT
UID:6798470@advancements.scouting.org
DTSTAMP:20260424T133516Z
CREATED:20260104T143457Z
ORGANIZER:Andrew Hardy
DTSTART:20260530T190000Z
DTEND:20260531T170000Z
SUMMARY:Pack Campout
DESCRIPTION:We will be going to a group campsite! It is a beautiful and private site in an amazing state park.  We'll have plenty of fun camping\, cooking\, hiking\, and more!
URL:https://advancements.scouting.org/calendar/event/6798470
LOCATION:None
END:VEVENT
END:VCALENDAR