BEGIN:VCALENDAR
VERSION:2.0
PRODID:-//advancements.scouting.org///NONSGML v1.0//EN
CALSCALE:GREGORIAN
X-WR-CALNAME:Pack 0516 (Family)
BEGIN:VEVENT
UID:6231916@advancements.scouting.org
DTSTAMP:20260425T200246Z
CREATED:20250106T013325Z
ORGANIZER:Brittany Jenkins
DTSTART:20250502T233000Z
DTEND:20250504T160000Z
SUMMARY:Camp Patiya
DESCRIPTION:Family Campout at Patiya! Space is VERY limited (35 occupants total each night).&nbsp;\n
URL:https://advancements.scouting.org/calendar/event/6231916
LOCATION:Camp Patiya 
END:VEVENT
BEGIN:VEVENT
UID:6367940@advancements.scouting.org
DTSTAMP:20260425T200246Z
CREATED:20250415T163222Z
ORGANIZER:Brittany Jenkins
DTSTART:20250514T003000Z
DTEND:20250514T013000Z
SUMMARY:Bridging Ceremony- Coal Creek Park
DESCRIPTION:In lieu of limited space at Patiya and many Spring sports\, leadership has decided to host a separate bridging ceremony in the park (Coal Creek Park in downtown Erie). The Pack will provide refreshments. Please plan to bring a camp chair or picnic blanket for your comfort during the ceremony. \n
URL:https://advancements.scouting.org/calendar/event/6367940
LOCATION:Coal Creek Park 
END:VEVENT
BEGIN:VEVENT
UID:6394840@advancements.scouting.org
DTSTAMP:20260425T200246Z
CREATED:20250514T042451Z
ORGANIZER:Brittany Jenkins
DTSTART:20250523T230000Z
DTEND:20250524T000000Z
SUMMARY:Memorial Day- Flag placement on graves
DESCRIPTION:We will join surrounding Erie Packs/Troops to place Memorial Day flags on graves at Mt. Pleasant Cemetery. Please wear Class B uniforms (Pack tee shirts).\n
URL:https://advancements.scouting.org/calendar/event/6394840
LOCATION:520 Colliers Blvd.\, Erie 
END:VEVENT
BEGIN:VEVENT
UID:6394842@advancements.scouting.org
DTSTAMP:20260425T200246Z
CREATED:20250514T042744Z
ORGANIZER:Brittany Jenkins
DTSTART:20250526T163000Z
DTEND:20250526T173000Z
SUMMARY:Memorial Day- Flag Ceremony
DESCRIPTION:We will join surrounding Packs/Troops to perform the Flag Ceremony and reading of names at Mt. Pleasant Cemetery for the Town of Erie. This is a Class A (full uniform) event.&nbsp;\n
URL:https://advancements.scouting.org/calendar/event/6394842
LOCATION:520 Colliers Blvd.\, Erie 
END:VEVENT
BEGIN:VEVENT
UID:6394843@advancements.scouting.org
DTSTAMP:20260425T200246Z
CREATED:20250514T042951Z
ORGANIZER:Brittany Jenkins
DTSTART:20250527T233000Z
DTEND:20250528T003000Z
SUMMARY:Memorial Day- Flag collection
DESCRIPTION:We will join surrounding Packs/Troops to collect flags from graves at the Mt. Pleasant Cemetery. This is Class A (full uniform) event.&nbsp;\n
URL:https://advancements.scouting.org/calendar/event/6394843
LOCATION:520 Colliers Blvd.\, Erie 
END:VEVENT
BEGIN:VEVENT
UID:6394847@advancements.scouting.org
DTSTAMP:20260425T200246Z
CREATED:20250514T043621Z
ORGANIZER:Brittany Jenkins
DTSTART:20250614T160000Z
DTEND:20250614T180000Z
SUMMARY:Pack Hike- Rocky Mountain Wildlife Refuge
DESCRIPTION:You're Invited!&nbsp;\nJoin us for our Scout Summer Kickoff  a fun morning of hiking and helping nature grow!\nWhen: June 14\, 10am12pm\nWhere: Lake Mary\, Rocky Mountain Arsenal Wildlife Refuge\nWhat: Scout Hike + Seed Bomb Service Project\nThis is a guided hike on the Lake Mary Loop trail\, with a fun hands-on activity. We will be making seed bombs to scatter along the trail.\nPlease meet at the Lake Mary Amphitheater. (Class B- get comfortable\, as it will likely be warm. Please check in with your scout to try and have the six essentials on hand... water and sunscreen especially!)\n
URL:https://advancements.scouting.org/calendar/event/6394847
LOCATION:Rocky Mountain Wildlife Refuge- Lake Mary Amphitheater and Lake Ladora Loop
END:VEVENT
BEGIN:VEVENT
UID:6394851@advancements.scouting.org
DTSTAMP:20260425T200246Z
CREATED:20250514T044127Z
ORGANIZER:Daniel Shay
DTSTART:20250803T000000Z
DTEND:20250803T030000Z
SUMMARY:Opening Flag Ceremony and Speedway Fun
DESCRIPTION:https://www.coloradospeedway.com/buy-tickets\nOn the night you participate in the event\, anyone in uniform will receive free entry\, and families will receive discounted tickets to enjoy the races that evening. It's a great way to be part of the action while spending time with your loved ones.\nThis is a Class A (full uniform) event.&nbsp;\n
URL:https://advancements.scouting.org/calendar/event/6394851
LOCATION:Colorado National Speedway
END:VEVENT
BEGIN:VEVENT
UID:6453834@advancements.scouting.org
DTSTAMP:20260425T200246Z
CREATED:20250706T034243Z
ORGANIZER:Brittany Jenkins
DTSTART:20250712T150000Z
DTEND:20250712T170000Z
SUMMARY:Hike- Anne U. White Trail 
DESCRIPTION:**Please note the change in location for this hike. (My apologies for the switch up- I hurt my hip recently and need a gentle trail.)**&nbsp;\nAnne U White is a great\, classic Boulder trailhead\, approx 3.3 miles out and back. We will meet at the parking lot around 8:50 and begin our hike at 9 am. The trail does run along a creek in the event your scout wants to play in the water a bit. Don't forget your six essentials.&nbsp;\nPlease RSVP so I know to look and wait for you in case you are running a bit behind. Thank you!\nLooking forward to what should be a beautiful morning.&nbsp;\n-Brittany&nbsp;\n
URL:https://advancements.scouting.org/calendar/event/6453834
LOCATION:Anne U. White trailhead
END:VEVENT
BEGIN:VEVENT
UID:6453847@advancements.scouting.org
DTSTAMP:20260425T200246Z
CREATED:20250706T035236Z
ORGANIZER:Brittany Jenkins
DTSTART:20250726T200000Z
DTEND:20250726T220000Z
SUMMARY:PACK EVENT- Colorado Adventure Point, BB Guns/STEM
DESCRIPTION:We have an afternoon booked for the Pack at Colorado Adventure Point in Denver. They will have two primary activities: a STEM activity and BB Gun practice available. The Pack will cover the cost for scouts and siblings will be $5 each. Becky Cann-Dusenberry has graciously agreed to be our primary contact for this event.&nbsp;\n**RSVP is a MUST so we know how many scouts to account for with each activity.**\n
URL:https://advancements.scouting.org/calendar/event/6453847
LOCATION:Colorado Adventure Point 
END:VEVENT
BEGIN:VEVENT
UID:6473493@advancements.scouting.org
DTSTAMP:20260425T200246Z
CREATED:20250720T173423Z
ORGANIZER:Richard Bateman
DTSTART:20250820T000000Z
DTEND:20250820T010000Z
SUMMARY:Adult Committee Meeting
DESCRIPTION:Monthly planning meeting for Adult Leaders including Den Leaders and Volunteers\n
URL:https://advancements.scouting.org/calendar/event/6473493
LOCATION:Bateman Family House
END:VEVENT
BEGIN:VEVENT
UID:6473514@advancements.scouting.org
DTSTAMP:20260425T200246Z
CREATED:20250720T173536Z
ORGANIZER:Brittany Jenkins
DTSTART:20250917T003000Z
DTEND:20250917T020000Z
SUMMARY:Adult Committee Meeting
DESCRIPTION:Monthly planning meeting for Adult Leaders including Den Leaders and Volunteers\n
URL:https://advancements.scouting.org/calendar/event/6473514
LOCATION:Bateman Family House- 1841 Crestview Lane\, Erie 
END:VEVENT
BEGIN:VEVENT
UID:6473532@advancements.scouting.org
DTSTAMP:20260425T200246Z
CREATED:20250720T174007Z
ORGANIZER:Brittany Jenkins
DTSTART:20251015T003000Z
DTEND:20251015T013000Z
SUMMARY:Adult Committee Meeting
DESCRIPTION:Monthly planning meeting for Adult Leaders including Den Leaders and Volunteers\n
URL:https://advancements.scouting.org/calendar/event/6473532
LOCATION:Location was not specified
END:VEVENT
BEGIN:VEVENT
UID:6473580@advancements.scouting.org
DTSTAMP:20260425T200246Z
CREATED:20250720T175837Z
ORGANIZER:Richard Bateman
DTSTART:20251017T210000Z
DTEND:20251019T140000Z
SUMMARY:Haunted Weekend
DESCRIPTION:Camping at Jack Nicol Cub Scout Ranch. Council provides staffed activities including arts/crafts\, archery\, BB guns\, costume contest\, and more.\nHot meals are provided at the indoor dining hall. Restrooms with running water are available.\n
URL:https://advancements.scouting.org/calendar/event/6473580
LOCATION:2331 County Rd 68C\, Red Feather Lakes\, CO 80545
END:VEVENT
BEGIN:VEVENT
UID:6473585@advancements.scouting.org
DTSTAMP:20260425T200246Z
CREATED:20250720T180255Z
ORGANIZER:Richard Bateman
DTSTART:20260515T210000Z
DTEND:20260517T140000Z
SUMMARY:Camp Patiya Campout
DESCRIPTION:Family campout at Camp Patiya near Flagstaff Mountain.\nMeals and activities are provided by the Pack.\nBring your family\, tent\, camping gear\, and be prepared for a weekend of fun!\n
URL:https://advancements.scouting.org/calendar/event/6473585
LOCATION:7022 Flagstaff Rd\, Boulder\, CO 80302
END:VEVENT
BEGIN:VEVENT
UID:6477847@advancements.scouting.org
DTSTAMP:20260425T200246Z
CREATED:20250722T203336Z
ORGANIZER:Brittany Jenkins
DTSTART:20250827T003000Z
DTEND:20250827T023000Z
SUMMARY:Pack Meeting
DESCRIPTION:First Pack meeting and popcorn fundraising kick-off!&nbsp;\n
URL:https://advancements.scouting.org/calendar/event/6477847
LOCATION:Red Hawk Elementary- 1500 Telleen Ave\, Erie\, CO 80516
END:VEVENT
BEGIN:VEVENT
UID:6477851@advancements.scouting.org
DTSTAMP:20260425T200246Z
CREATED:20250722T203552Z
ORGANIZER:Brittany Jenkins
DTSTART:20250910T003000Z
DTEND:20250910T020000Z
SUMMARY:Den Meetings
DESCRIPTION:Den Meetings for all *EXCEPT* Tigers (who will be meeting on 9/16)\n
URL:https://advancements.scouting.org/calendar/event/6477851
LOCATION:Red Hawk Elementary- 1500 Telleen Ave\, Erie\, CO 80516
END:VEVENT
BEGIN:VEVENT
UID:6477853@advancements.scouting.org
DTSTAMP:20260425T200246Z
CREATED:20250722T203758Z
ORGANIZER:Brittany Jenkins
DTSTART:20250924T003000Z
DTEND:20250924T020000Z
SUMMARY:Pack Meeting
DESCRIPTION:Monthly Pack Meeting- Bobcat\n
URL:https://advancements.scouting.org/calendar/event/6477853
LOCATION:Red Hawk Elementary- 1500 Telleen Ave\, Erie\, CO 80516
END:VEVENT
BEGIN:VEVENT
UID:6477860@advancements.scouting.org
DTSTAMP:20260425T200246Z
CREATED:20250722T204204Z
ORGANIZER:Brittany Jenkins
DTSTART:20251008T003000Z
DTEND:20251008T020000Z
SUMMARY:Den Meetings
DESCRIPTION:Monthly den meetings for all\n
URL:https://advancements.scouting.org/calendar/event/6477860
LOCATION:Red Hawk Elementary- 1500 Telleen Ave\, Erie\, CO 80516
END:VEVENT
BEGIN:VEVENT
UID:6477864@advancements.scouting.org
DTSTAMP:20260425T200246Z
CREATED:20250722T204419Z
ORGANIZER:Brittany Jenkins
DTSTART:20251022T003000Z
DTEND:20251022T020000Z
SUMMARY:Pack Meeting
DESCRIPTION:Monthly Pack Meeting\n
URL:https://advancements.scouting.org/calendar/event/6477864
LOCATION:Red Hawk Elementary- 1500 Telleen Ave\, Erie\, CO 80516
END:VEVENT
BEGIN:VEVENT
UID:6477866@advancements.scouting.org
DTSTAMP:20260425T200246Z
CREATED:20250722T204522Z
ORGANIZER:Brittany Jenkins
DTSTART:20251105T013000Z
DTEND:20251105T030000Z
SUMMARY:Den Meetings
DESCRIPTION:Monthly den meetings for all\n
URL:https://advancements.scouting.org/calendar/event/6477866
LOCATION:Red Hawk Elementary- 1500 Telleen Ave\, Erie\, CO 80516
END:VEVENT
BEGIN:VEVENT
UID:6477867@advancements.scouting.org
DTSTAMP:20260425T200246Z
CREATED:20250722T204628Z
ORGANIZER:Brittany Jenkins
DTSTART:20251119T013000Z
DTEND:20251119T033000Z
SUMMARY:Pack Meeting- Raingutter Regatta
DESCRIPTION:Pack Meeting- Raingutter Regatta race!&nbsp;\n
URL:https://advancements.scouting.org/calendar/event/6477867
LOCATION:Location was not specified
END:VEVENT
BEGIN:VEVENT
UID:6477873@advancements.scouting.org
DTSTAMP:20260425T200246Z
CREATED:20250722T205006Z
ORGANIZER:Brittany Jenkins
DTSTART:20260328T160000Z
DTEND:20260328T183000Z
SUMMARY:Pinewood Derby
DESCRIPTION:Zoom zoom- join us for our annual Pinewood Derby!&nbsp;\n
URL:https://advancements.scouting.org/calendar/event/6477873
LOCATION:Red Hawk Elementary- 1500 Telleen Ave\, Erie\, CO 80516
END:VEVENT
BEGIN:VEVENT
UID:6711995@advancements.scouting.org
DTSTAMP:20260425T200246Z
CREATED:20251024T232950Z
ORGANIZER:Zeni Whittall
DTSTART:20251112T013000Z
DTEND:20251112T023000Z
SUMMARY:Adult Committee Meeting
DESCRIPTION:Monthly planning meeting for Adult Leaders\, Volunteers\, and Parents\n
URL:https://advancements.scouting.org/calendar/event/6711995
LOCATION:Taylor Family Home
END:VEVENT
BEGIN:VEVENT
UID:6740101@advancements.scouting.org
DTSTAMP:20260425T200246Z
CREATED:20251112T035933Z
ORGANIZER:Brittany Jenkins
DTSTART:20251206T004500Z
DTEND:20251206T020000Z
SUMMARY:Erie Parade of Lights
DESCRIPTION:Join us as we walk in the Erie Parade of Lights!&nbsp;\nThe Pack will meet along Maxwell Ave. (at Briggs) at 5:45 pm. All scouts must be accompanied by an adult. We will have a float\, lights for each scout\, and candy to pass out. Dress cozy in good walking shoes!&nbsp;\nRSVPs are a must so we can plan accordingly for supplies. Siblings are encouraged to attend.&nbsp;\n
URL:https://advancements.scouting.org/calendar/event/6740101
LOCATION:None
END:VEVENT
BEGIN:VEVENT
UID:6740146@advancements.scouting.org
DTSTAMP:20260425T200246Z
CREATED:20251112T040459Z
ORGANIZER:Brittany Jenkins
DTSTART:20251210T013000Z
DTEND:20251210T030000Z
SUMMARY:Pack Holiday Party! (Ninja Nation)
DESCRIPTION:Join us for holiday fun at Ninja Nation (waivers will be emailed)! We will serve up pizza and a lot of play time. This is a family event\, though RSVPs are required. We will have 30 minutes to eat and the rest of the time to monkey around on the equipment (with some guided play).&nbsp;\n
URL:https://advancements.scouting.org/calendar/event/6740146
LOCATION:1700 Coal Creek Dr unit 2\, Lafayette\, CO 80026
END:VEVENT
BEGIN:VEVENT
UID:6740157@advancements.scouting.org
DTSTAMP:20260425T200246Z
CREATED:20251112T041026Z
ORGANIZER:Brittany Jenkins
DTSTART:20251203T013000Z
DTEND:20251203T023000Z
SUMMARY:Float decorating for the Erie Parade of Lights! 
DESCRIPTION:&nbsp;In lieu of our regularly scheduled Den Meetings\, we will be decorating our parade float at the Mincher Family hangar. (Optional)\n2520 Cessna Dr.\nErie\, CO 80516\n
URL:https://advancements.scouting.org/calendar/event/6740157
LOCATION:2520 Cessna Dr. 
END:VEVENT
BEGIN:VEVENT
UID:6740171@advancements.scouting.org
DTSTAMP:20260425T200246Z
CREATED:20251112T042225Z
ORGANIZER:Brittany Jenkins
DTSTART:20260114T013000Z
DTEND:20260114T030000Z
SUMMARY:Den Meetings
DESCRIPTION:Regularly scheduled den meeting- focus of the month is Personal Safety\nLion:Lion's Roar (Shout\, Run\, Tell\, trusted adults\, 911)\nTiger:Tiger's Roar (Shout\, Run\, Tell\, 911\, emergency whistles)\nWolf:Safety in Numbers (safe touch\, buddy system)\nBear:Standing Tall (personal space\, digital safety)\nWebelos:My Safety (hazardous materials\, home safety) also Knife Safety if time allows\nAOL: Catch up/ Elective\, prepare for Crossover (arrows)\n
URL:https://advancements.scouting.org/calendar/event/6740171
LOCATION:None
END:VEVENT
BEGIN:VEVENT
UID:6740172@advancements.scouting.org
DTSTAMP:20260425T200246Z
CREATED:20251112T042604Z
ORGANIZER:Brittany Jenkins
DTSTART:20260128T013000Z
DTEND:20260128T030000Z
SUMMARY:Pack Meeting
DESCRIPTION:Regularly scheduled Pack Meeting\n
URL:https://advancements.scouting.org/calendar/event/6740172
LOCATION:Location was not specified
END:VEVENT
BEGIN:VEVENT
UID:6740173@advancements.scouting.org
DTSTAMP:20260425T200246Z
CREATED:20251112T042955Z
ORGANIZER:Brittany Jenkins
DTSTART:20260211T013000Z
DTEND:20260211T030000Z
SUMMARY:Den Meetings
DESCRIPTION:Regularly scheduled Den Meetings- focus of the month is Healthy Habits and Personal Fitness\nLion: Fun on the Run (physical activity\, healthy eating)\nTiger: Tiger Bites (healthy eating\, exercise)\nWolf: Running with the Pack (brushing teeth\, food groups\, physical fitness\, goal setting)\nBear: Bear Strong (food groups\, physical fitness\, sportsmanship)\nWebelos: Stronger\, Faster\, Higher (physical activity\, nutrition\, personal goals)\nAOL: Catch up/Elective\, prepare for Crossover\n\n\n
URL:https://advancements.scouting.org/calendar/event/6740173
LOCATION:None
END:VEVENT
BEGIN:VEVENT
UID:6751736@advancements.scouting.org
DTSTAMP:20260425T200246Z
CREATED:20251119T180021Z
ORGANIZER:Brittany Jenkins
DTSTART:20251207T163000Z
DTEND:20251207T190000Z
SUMMARY:Pack Hike- Bald Mountain Scenic Area
DESCRIPTION:Please join us for a Pack hike (optional) led by Wolf Den Leader\, Michelle A. Scouts should bring a compass for an activity on the hike if they've got one. Thanks!&nbsp;\n
URL:https://advancements.scouting.org/calendar/event/6751736
LOCATION:Bald Mountain Scenic Area- Boulder
END:VEVENT
BEGIN:VEVENT
UID:6836724@advancements.scouting.org
DTSTAMP:20260425T200246Z
CREATED:20260125T230610Z
ORGANIZER:Richard Bateman
DTSTART:20260121T013000Z
DTEND:20260121T023000Z
SUMMARY:Adult Committee Meeting
DESCRIPTION:Monthly planning meeting for Adult Leaders\, Volunteers\, and Parents
URL:https://advancements.scouting.org/calendar/event/6836724
LOCATION:Bateman Family House
END:VEVENT
BEGIN:VEVENT
UID:6846287@advancements.scouting.org
DTSTAMP:20260425T200246Z
CREATED:20260202T193903Z
ORGANIZER:Daniel Shay
DTSTART:20260225T010000Z
DTEND:20260225T030000Z
SUMMARY:Pack Meeting - Blue and Gold Potluck
DESCRIPTION:Annual Blue &amp; Gold Celebration Pack Meeting at Get Air Longmont (2251 Ken Pratt Blvd\, Unit C\, Longmont\, CO 80501)* Arrow of Light Crossover* Potluck SignUp Link TBD* Waivers (https://longmont.getairmanagement.com/GroupWaiver.html)Blue and Gold BanquetBlue and Gold Banquets are a tradition in Cub Scout packs.  They are a celebration of the anniversary of the founding of Scouting America on February 8\, 1910\, and therefore usually take the place of the February pack meeting.  Often\, badges of rank are awarded.  The Arrow of Light ceremony may even be included as the 5th graders cross over to a troop.
URL:https://advancements.scouting.org/calendar/event/6846287
LOCATION:Get Air in Longmont\, 2251 Ken Pratt Blvd\, Longmont\, CO 80501
END:VEVENT
BEGIN:VEVENT
UID:6864306@advancements.scouting.org
DTSTAMP:20260425T200246Z
CREATED:20260215T004120Z
ORGANIZER:Richard Bateman
DTSTART:20260218T013000Z
DTEND:20260218T023000Z
SUMMARY:Adult Committee Meeting
DESCRIPTION:Monthly planning meeting for Adult Leaders\, Volunteers\, and Parents\nMeeting Zoom link -- https://prologis.zoom.us/j/95308891614
URL:https://advancements.scouting.org/calendar/event/6864306
LOCATION:Bateman Family House
END:VEVENT
BEGIN:VEVENT
UID:6894351@advancements.scouting.org
DTSTAMP:20260425T200246Z
CREATED:20260309T232727Z
ORGANIZER:Phillip Sinclair-Harry
DTSTART:20260325T000000Z
DTEND:20260325T020000Z
SUMMARY:Pinewood Derby Car Check In
DESCRIPTION:Bring Finished and ready to race PWD Car for Official Check in. Once your car is checked in no more adjustments are allowed.
URL:https://advancements.scouting.org/calendar/event/6894351
LOCATION:197 Nelson Street\, Erie\, 80516
END:VEVENT
BEGIN:VEVENT
UID:6900969@advancements.scouting.org
DTSTAMP:20260425T200246Z
CREATED:20260316T041626Z
ORGANIZER:Richard Bateman
DTSTART:20260322T200000Z
DTEND:20260322T210000Z
SUMMARY:ACM March
DESCRIPTION:Monthly planning meeting for Adult Leaders\, Volunteers\, and ParentsMeeting Zoom link -- https://prologis.zoom.us/j/95308891614
URL:https://advancements.scouting.org/calendar/event/6900969
LOCATION:1841 Crestview Lane\,  Erie CO 80516
END:VEVENT
BEGIN:VEVENT
UID:6906764@advancements.scouting.org
DTSTAMP:20260425T200246Z
CREATED:20260323T161540Z
ORGANIZER:Brittany Jenkins
DTSTART:20260408T003000Z
DTEND:20260408T021500Z
SUMMARY:Den Meetings
DESCRIPTION:Den meetings- Den:Lion: King of the Jungle (service project\, helping others at home\, talk to a veteran)Tiger: Team Tiger (being part of a team\, service project - e.g.\, collecting food for a local pantry)Wolf: Council Fire (being a good neighbor\, communities\, neighborhoods\, service project)Bear: Paws for Action (national symbols\, community service project\, learning about local government)Webelos: My Community (local government\, community organizations\, visit a community leader)
URL:https://advancements.scouting.org/calendar/event/6906764
LOCATION:Red Hawk Elementary- 1500 Telleen Ave\, Erie\, CO 80516
END:VEVENT
BEGIN:VEVENT
UID:6906769@advancements.scouting.org
DTSTAMP:20260425T200246Z
CREATED:20260323T161920Z
ORGANIZER:Brittany Jenkins
DTSTART:20260422T003000Z
DTEND:20260422T023000Z
SUMMARY:Pack Meeting
DESCRIPTION:Pack Meeting- Focus: Community &amp; Citizenship: Being a Good NeighborWe will be doing a service project together (making elderly care packages for an assisted living facility)
URL:https://advancements.scouting.org/calendar/event/6906769
LOCATION:Red Hawk Elementary- 1500 Telleen Ave\, Erie\, CO 80516
END:VEVENT
BEGIN:VEVENT
UID:6911559@advancements.scouting.org
DTSTAMP:20260425T200246Z
CREATED:20260328T235537Z
ORGANIZER:Sara Bateman
DTSTART:20260415T003000Z
DTEND:20260415T013000Z
SUMMARY:Adult Committee Meeting
DESCRIPTION:Adult Committee MeetingDiscuss Apr - May eventsZoom link: https://prologis.zoom.us/j/95308891614
URL:https://advancements.scouting.org/calendar/event/6911559
LOCATION:Bateman House: 1841 Crestview Lane\, Erie CO 80516
END:VEVENT
BEGIN:VEVENT
UID:6928080@advancements.scouting.org
DTSTAMP:20260425T200246Z
CREATED:20260415T212017Z
ORGANIZER:Laura Sinclair-Harry
DTSTART:20260506T000000Z
DTEND:20260506T023000Z
SUMMARY:Annual Planning Meeting 26-27 Year
DESCRIPTION:We will be holding our Annual Planning Meeting in person on May 5th\, 2026 at the home of new Committee Chair\, Laura Sinclair-Harry: 197 Nelson Street.  There will not be a ZOOM option for this meeting as we will be brainstorming.  Dinner will be provided (anyone wanting to contribute a dish or snacks would be welcome\, but if you are coming from work its not required).   All leaders are required to attend if at all possible.  Parents are welcome\, but not required. 
URL:https://advancements.scouting.org/calendar/event/6928080
LOCATION:197 Nelson Street\, Erie Commons
END:VEVENT
END:VCALENDAR